Workbook

Sheet 汇总表
A1: 成都光明派特贵金属有限公司钯相关设备项目工程量清单
A2: 序号 | B2: 设备位号 | C2: 名称 | D2: 型号、规格及技术要求 | E2: 单位 | F2: 数量 | G2: 备注 | H2: 备注1
A3: A | C3: 设备
A4: 1 | B4: R1 | C4: 反应釜 | D4: 罐体内径：Φ900mm；夹套直径：Φ1000mm；罐内设计温度：150℃；夹套内设计温度：200℃；罐内压力：0.4MPa;夹套内压力：0.6MPa;公称容积：500L；质量：约400Kg。 | E4: 台 | F4: 1 | G4: 甲供
C5: 配套玻璃冷凝器 | D5: — | E5: 套 | F5: 1 | G5: 甲供
C6: PH计 | D6: — | E6: 套 | F6: 1 | G6: 甲供（R1、R2、R3共用）
C7: 温度传感器 | D7: — | E7: 套 | F7: 1 | G7: 甲供
C8: 配套搅拌器 | D8: 电压：380V；功率：2.2Kw。 | E8: 台 | F8: 1 | G8: 甲供
A9: 2 | B9: R2 | C9: 反应釜 | D9: 罐体内径：Φ900mm；夹套直径：Φ1000mm；罐内设计温度：150℃；夹套内设计温度：200℃；罐内压力：0.4MPa;夹套内压力：0.6MPa;公称容积：800L；质量：约500Kg。 | E9: 台 | F9: 1 | G9: 甲供
C10: 配套玻璃冷凝器 | D10: — | E10: 套 | F10: 1 | G10: 甲供
C11: 温度传感器 | D11: — | E11: 套 | F11: 1 | G11: 甲供
C12: 配套搅拌器 | D12: 电压：380V；功率：3Kw。 | E12: 台 | F12: 1 | G12: 甲供
A13: 3 | B13: R3 | C13: 反应釜 | D13: 罐体内径：Φ1450mm；夹套直径：Φ1600mm；罐内设计温度：150℃；夹套内设计温度：200℃；罐内压力：0.4MPa;夹套内压力：0.6MPa;公称容积：1000L；质量：约700Kg。 | E13: 台 | F13: 1 | G13: 甲供
C14: 配套玻璃冷凝器 | D14: — | E14: 套 | F14: 1 | G14: 甲供
C15: 温度传感器 | D15: — | E15: 套 | F15: 1 | G15: 甲供
C16: 配套搅拌器 | D16: 电压：380V；功率：4Kw。 | E16: 台 | F16: 1 | G16: 甲供
A17: 4 | B17: V1 | C17: 高位槽 | D17: 介质：NAOH；工作压力：-0.1MPa;温度：环境温度；体积：60L。 | E17: 台 | F17: 1 | G17: 甲供（RI配用）
A18: 5 | B18: V2 | C18: 高位槽 | D18: 介质：HCL；工作压力：-0.1MPa;温度：环境温度；体积：100L。 | E18: 台 | F18: 1 | G18: 甲供（RI配用）
A19: 6 | B19: V3 | C19: 高位槽 | D19: 介质：HNO3；工作压力：-0.1MPa;温度：环境温度；体积：60L。 | E19: 台 | F19: 1 | G19: 甲供（RI配用）
A20: 7 | B20: V4 | C20: 高位槽 | D20: 介质：HN4.OH；工作压力：-0.1MPa;温度：环境温度；体积：100L。 | E20: 台 | F20: 1 | G20: 甲供（R2配用）
A21: 8 | B21: V5 | C21: 高位槽 | D21: 介质：NAOH；工作压力：-0.1MPa;温度：环境温度；体积：60L。 | E21: 台 | F21: 1 | G21: 甲供（R3配用）
A22: 9 | B22: V6 | C22: 高位槽 | D22: 介质：HCL；工作压力：-0.1MPa;温度：环境温度；体积：100L。 | E22: 台 | F22: 1 | G22: 甲供（R3配用）
A23: 10 | B23: V7 | C23: 高位槽 | D23: 介质：盐酸联胺；工作压力：-0.1MPa;温度：环境温度；体积：60L。 | E23: 台 | F23: 1 | G23: 甲供（R3配用）
A24: 11 | B24: V8 | C24: 高位槽 | D24: 介质：HCL；工作压力：-0.1MPa;温度：环境温度；体积：100L。 | E24: 台 | F24: 1 | G24: 甲供，利旧
A25: 12 | B25: V9 | C25: 高位槽 | D25: 介质：HCL；工作压力：-0.1MPa;温度：环境温度；体积：100L。 | E25: 台 | F25: 1 | G25: 甲供
A26: 13 | B26: V10 | C26: 高位槽 | D26: 介质：HN4.OH；工作压力：-0.1MPa;温度：环境温度；体积：100L。 | E26: 台 | F26: 1 | G26: 甲供
A27: 14 | B27: V11 | C27: 中转槽 | D27: 介质：—；工作压力：-0.1MPa;温度：环境温度；体积：100L。 | E27: 台 | F27: 1 | G27: 甲供
A28: 15 | B28: V12 | C28: 中转槽 | D28: 介质：—；工作压力：-0.1MPa;温度：环境温度；直径：Φ150mm。 | E28: 台 | F28: 1 | G28: 甲供
... A35: 22 | B35: V19 | C35: 生成罐 | D35: 介质：—；工作压力：常压;温度：环境温度；体积：1000L。 | E35: 台 | F35: 1 | G35: 甲供
C36: PH计 | D36: — | E36: 套 | F36: 1 | G36: 甲供（V19、V20共用）
C37: 配套搅拌器 | D37: 电压：380V；功率：1Kw。 | E37: 台 | F37: 1 | G37: 甲供
A38: 23 | B38: V20 | C38: 络合罐 | D38: 介质：—；工作压力：常压;温度：环境温度；体积：800L。 | E38: 台 | F38: 1 | G38: 甲供
C39: 配套搅拌器 | D39: 电压：380V；功率：1Kw。 | E39: 台 | F39: 1 | G39: 甲供
A40: 24 | B40: V21、V22 | C40: 废液还原罐 | D40: 介质：—；工作压力：常压;温度：环境温度；体积：1000L。 | E40: 台 | F40: 2 | G40: 甲供
C41: 配套搅拌器 | D41: 电压：380V；功率：1Kw。 | E41: 台 | F41: 2 | G41: 甲供
A42: 25 | B42: V23、V24 | C42: 废液还原储存罐 | D42: 介质：—；工作压力：常压;温度：环境温度；体积：1000L。 | E42: 台 | F42: 2 | G42: 甲供
A43: 26 | B43: V25 | C43: 废液储存罐 | D43: 介质：—；工作压力：常压;温度：环境温度；体积：1000L。 | E43: 台 | F43: 1 | G43: 甲供
A44: 27 | B44: V26 | C44: 中转罐 | D44: 介质：—；工作压力：常压;温度：环境温度；体积：1000L。 | E44: 台 | F44: 1 | G44: 甲供，三废区
A45: 28 | B45: V27 | C45: 硫酸槽 | D45: 介质：—；工作压力：常压;温度：环境温度；体积：6000L。 | E45: 台 | F45: 1 | G45: 甲供，利旧，三废区
A46: 29 | B46: V28 | C46: PE废液罐 | D46: 介质：—；工作压力：常压;温度：环境温度；体积：10m3。 | E46: 台 | F46: 1 | G46: 乙供，三废区
A47: 30 | B47: V29 | C47: 酸碱调节槽 | D47: 介质：—；工作压力：常压;温度：环境温度；体积：4m3。 | E47: 台 | F47: 1 | G47: 甲供，利旧，三废区
A48: 31 | B48: V30 | C48: 中转槽 | D48: 介质：—；工作压力：-0.1MPa;温度：环境温度；直径：Φ150mm。 | E48: 台 | F48: 1 | G48: 甲供
A49: 32 | B49: T1 | C49: NH3洗涤塔 | D49: 介质：—；工作压力：常压;温度：环境温度。 | E49: 台 | F49: 1 | G49: 甲供，利旧，三废区
A50: 33 | B50: B1 | C50: 热水器 | D50: 介质：纯水。 | E50: 台 | F50: 1 | G50: 甲供，利旧
A51: 34 | B51: F1~F6 | C51: 过滤器 | D51: 介质：—；压力：常压；温度：环境温度；直径：Φ600。 | E51: 台 | F51: 6 | G51: 甲供
A52: 35 | B52: F7~F9 | C52: 过滤器 | D52: 介质：—；压力：常压；温度：环境温度；直径：Φ460。 | E52: 台 | F52: 3 | G52: 甲供，利旧
A53: 36 | B53: F10 | C53: 线波过滤器 | D53: 介质：—；压力：常压；温度：环境温度；直径：Φ 。 | E53: 台 | F53: 1 | G53: 甲供，利旧
... A56: 39 | B56: P7~P9 | C56: 计量泵 | D56: 电压：220V；功率：1Kw。 | E56: 台 | F56: 3 | G56: 甲供
C57: 接液槽 | D57: 与2009年搬厂时的材质颜色一致。
A58: 1 | B58: V1、V2、V3 | C58: 接液槽 | D58: 材质：PP;尺寸：1600mm*550mm*200mm*10mm | E58: 件 | F58: 1 | G58: 乙供
A59: 2 | B59: V4、V8、V7 | C59: 接液槽 | D59: 材质：PP;尺寸：1600mm*550mm*200mm*10mm | E59: 件 | F59: 1 | G59: 乙供
A60: 3 | B60: V9、V10、V15 | C60: 接液槽 | D60: 材质：PP;尺寸：1600mm*550mm*200mm*10mm | E60: 件 | F60: 1 | G60: 乙供
A61: 4 | B61: V6、V5、V11、V17 | C61: 接液槽 | D61: 材质：PP;尺寸：2100mm*550mm*200mm*10mm | E61: 件 | F61: 1 | G61: 乙供
A62: 5 | B62: F1、F2 | C62: 接液槽 | D62: 材质：PP;尺寸：1500mm*800mm*200mm*10mm | E62: 件 | F62: 1 | G62: 乙供
A63: 6 | B63: F3、F4 | C63: 接液槽 | D63: 材质：PP;尺寸：1500mm*800mm*200mm*10mm | E63: 件 | F63: 1 | G63: 乙供
A64: 7 | B64: F5、F6 | C64: 接液槽 | D64: 材质：PP;尺寸：1500mm*800mm*200mm*10mm | E64: 件 | F64: 1 | G64: 乙供
A65: 8 | B65: F7、F8、F9 | C65: 接液槽 | D65: 材质：PP;尺寸：2000mm*800mm*200mm*10mm | E65: 件 | F65: 1 | G65: 乙供
A66: 9 | B66: P1、P2 | C66: 接液槽 | D66: 材质：PP;尺寸：1200mm*500mm*200mm*10mm | E66: 件 | F66: 1 | G66: 乙供
A67: 10 | B67: P7 | C67: 接液槽 | D67: 材质：PP;尺寸：600mm*500mm*200mm*10mm | E67: 件 | F67: 1 | G67: 乙供
A68: 11 | B68: P3 | C68: 接液槽 | D68: 材质：PP;尺寸：600mm*500mm*200mm*10mm | E68: 件 | F68: 1 | G68: 乙供
A69: 12 | B69: P4 | C69: 接液槽 | D69: 材质：PP;尺寸：1200mm*600mm*200mm*10mm | E69: 件 | F69: 1 | G69: 乙供
... A75: 18 | B75: V25/V20 | C75: 接液槽 | D75: 材质：PP;尺寸：1200mm*1200mm*200mm*10mm | E75: 件 | F75: 1 | G75: 乙供
A76: 19 | C76: 洗手池 | D76: 材质：PVC;尺寸：600mm*600mm*1000mm*10mm | E76: 件 | F76: 1 | G76: 乙供
A78: B | C78: 管道
B79: （一） | C79: CPVC管道 | D79: DN15 | E79: 米 | F79: =[1]管道!D58 -> 262 | G79: 甲供
C80: 带钢丝PVC透明软管（卫生级） | D80: DN15 | E80: 米 | F80: =[1]管道!E58 -> 48 | G80: 甲供
C81: CPVC直接 | D81: DN15 | E81: 个 | F81: =[1]管道!F58 -> 83 | G81: 甲供
C82: CPVC90度弯头 | D82: DN15 | E82: 个 | F82: =[1]管道!G58 -> 460 | G82: 甲供
C83: CPVC正三通 | D83: DN15 | E83: 个 | F83: =[1]管道!H58 -> 92 | G83: 甲供
C84: CPVC单头丝 | D84: DN15 | E84: 个 | F84: =[1]管道!I58 -> 14 | G84: 甲供
C85: CPVC活接球阀 | D85: DN15 | E85: 个 | F85: =[1]管道!J58 -> 134 | G85: 甲供
C86: CPVC活接止回阀 | D86: DN15 | E86: 个 | F86: =[1]管道!K58 -> 6 | G86: 甲供
C87: CPVC法兰 | D87: DN15 | E87: 片 | F87: =[1]管道!L58 -> 17 | G87: 甲供
C88: δ=3mm聚四氟乙烯垫片 | D88: DN15 | E88: 片 | F88: =[1]管道!M58 -> 17 | G88: 甲供
C89: CPVC专用胶水 | D89: — | E89: Kg | F89: =[1]管道!N58 -> 3.8 | G89: 甲供
C90: 304管卡 | D90: DN15 | E90: 个 | F90: =[1]管道!O58 -> 404 | G90: 甲供
B91: （二） | C91: CPVC管道 | D91: DN20 | E91: 米 | F91: =[1]管道!P58 -> 134 | G91: 甲供
C92: 带钢丝PVC透明软管（卫生级） | D92: DN20 | E92: 米 | F92: =[1]管道!Q58 -> 17 | G92: 甲供
C93: CPVC直接 | D93: DN20 | E93: 个 | F93: =[1]管道!R58 -> 30 | G93: 甲供
C94: CPVC90度弯头 | D94: DN20 | E94: 个 | F94: =[1]管道!S58 -> 78 | G94: 甲供
C95: CPVC正三通 | D95: DN20 | E95: 个 | F95: =[1]管道!T58 -> 6 | G95: 甲供
C96: CPVC活接球阀 | D96: DN20 | E96: 个 | F96: =[1]管道!U58 -> 16 | G96: 甲供
C97: CPVC法兰 | D97: DN20 | E97: 片 | F97: =[1]管道!V58 -> 3 | G97: 甲供
C98: δ=3mm聚四氟乙烯垫片 | D98: DN20 | E98: 片 | F98: =[1]管道!W58 -> 3 | G98: 甲供
C99: CPVC专用胶水 | D99: — | E99: Kg | F99: =[1]管道!X58 -> 0.9 | G99: 甲供
C100: 304管卡 | D100: DN20 | E100: 个 | F100: =[1]管道!Y58 -> 56 | G100: 甲供
B101: （三） | C101: CPVC管道 | D101: DN25 | E101: 米 | F101: =[1]管道!Z58 -> 68 | G101: 甲供
C102: PP管道 | D102: DN25 | E102: 米 | F102: =[1]管道!AA58 -> 8 | G102: 甲供
C103: 带钢丝PVC透明软管（卫生级） | D103: DN25 | E103: 米 | F103: =[1]管道!AB58 -> 3 | G103: 甲供
C104: CPVC直接 | D104: DN25 | E104: 个 | F104: =[1]管道!AC58 -> 2 | G104: 甲供
C105: CPVC90度弯头 | D105: DN25 | E105: 个 | F105: =[1]管道!AD58 -> 44 | G105: 甲供
C106: CPVC正三通 | D106: DN25 | E106: 个 | F106: =[1]管道!AE58 -> 6 | G106: 甲供
C107: CPVC活接球阀 | D107: DN25 | E107: 个 | F107: =[1]管道!AF58 -> 26 | G107: 甲供
C108: PP球阀 | D108: DN25 | E108: 个 | F108: =[1]管道!AG58 -> 3 | G108: 甲供
C109: PVC浮子流量计 | D109: DN25 | E109: 套 | F109: =[1]管道!AH58 -> 3 | G109: 甲供
C110: CPVC法兰 | D110: DN25 | E110: 片 | F110: =[1]管道!AI58 -> 9 | G110: 甲供
C111: δ=3mm聚四氟乙烯垫片 | D111: DN25 | E111: 片 | F111: =[1]管道!AJ58 -> 9 | G111: 甲供
C112: CPVC专用胶水 | D112: — | E112: Kg | F112: =[1]管道!AK58 -> 0.8 | G112: 甲供
C113: 304管卡 | D113: DN25 | E113: 个 | F113: =[1]管道!AL58 -> 40 | G113: 甲供
B114: （四） | C114: CPVC管道 | D114: DN32 | E114: 米 | F114: =[1]管道!AM58 -> 28 | G114: 甲供
...

Sheet 管道
A1: 成都光明派特贵金属有限公司钯相关设备项目管道工程量清单
A2: 序号 | B2: 管线号 | C2: 系统 | D2: 型号、规格及技术要求
D3: DN15 | P3: DN20 | Z3: DN25 | AM3: DN32 | AT3: DN40 | BD3: DN50 | BV3: DN65 | CC3: DN100 | CR3: DN150 | DA3: DN200 | DH3: DN250
D4: CPVC管道（米） | E4: 卫生级，带钢丝PVC透明软管（米） | F4: CPVC直接（个） | G4: CPVC90度弯头（个） | H4: CPVC正三通（个） | I4: CPVC单头丝（个） | J4: CPVC活接球阀（个） | K4: CPVC活接止回阀（个） | L4: CPVC法兰（个） | M4: δ=3mm聚四氟乙烯垫片（片） | N4: CPVC专用胶水（KG） | O4: 304管卡（个） | P4: CPVC管道（米） | Q4: 卫生级，带钢丝PVC透明软管（米） | R4: CPVC直接（个） | S4: CPVC90度弯头（个） | T4: CPVC正三通（个） | U4: CPVC球阀（个） | V4: CPVC法兰（个） | W4: δ=3mm聚四氟乙烯垫片（片） | X4: CPVC专用胶水（KG） | Y4: 304管卡（个） | Z4: CPVC管道（米） | AA4: PP管道（米） | AB4: 卫生级，带钢丝PVC透明软管（米） | AC4: CPVC直接（个） | AD4: CPVC90度弯头（个） | AE4: CPVC正三通（个） | AF4: CPVC球阀（个） | AG4: PP球阀（个） | AH4: PVC浮子流量计（套） | AI4: CPVC法兰（个） | AJ4: δ=3mm聚四氟乙烯垫片（片） | AK4: CPVC专用胶水（KG） | AL4: 304管卡（个） | AM4: CPVC管道（米） | AN4: CPVC直接（个） | AO4: CPVC90度弯头（个） | AP4: CPVC正三通（个） | AQ4: CPVC球阀（个） | AR4: CPVC专用胶水（KG） | AS4: 304管卡（个） | AT4: CPVC管道（米） | AU4: CPVC直接（个） | AV4: CPVC90度弯头（个） | AW4: CPVC三通DN40*25（个） | AX4: CPVC球阀（个） | AY4: CPVC止回阀（个） | AZ4: CPVC法兰（个） | BA4: δ=3mm聚四氟乙烯垫片（片） | BB4: CPVC专用胶水（KG） | BC4: 304管卡（个） | BD4: CPVC管道（米） | BE4: CPVC透明管道（米） | BF4: 卫生级，带钢丝PVC透明软管（米） | BG4: PVC波纹软管（米） | BH4: CPVC直接（个） | BI4: CPVC90度弯头（个） | BJ4: CPVC90度透明弯头（个） | BK4: CPVC正三通（个） | BL4: CPVC三通DN50*32（个） | BM4: CPVC三通DN50*15（个） | BN4: CPVC透明正三通（个） | BO4: CPVC球阀（个） | BP4: CPVC止回阀（个） | BQ4: CPVC法兰（个） | BR4: δ=3mm聚四氟乙烯垫片（片） | BS4: PVC插板阀（个） | BT4: CPVC专用胶水（KG） | BU4: 304管卡（个） | BV4: CPVC管道（米） | BW4: PVC波纹软管（米） | BX4: CPVC90度弯头（个） | BY4: CPVC插筒（个）L=1000mm | BZ4: PVC插板阀（个） | CA4: CPVC专用胶水（KG） | CB4: 304管卡（个） | CC4: CPVC管道（米） | CD4: PP管道（米） | CE4: PVC波纹软管（米） | CF4: CPVC直接（个） | CG4: CPVC90度弯头（个） | CH4: PP90度弯头（个） | CI4: PP正三通（个） | CJ4: PVC插板阀（个） | CK4: PP插板阀（个） | CL4: CPVC法兰（个） | CM4: δ=3mm聚四氟乙烯垫片（片） | CN4: PP法兰（个） | CO4: δ=3mm聚四氟乙烯垫片（片） | CP4: CPVC专用胶水（KG） | CQ4: 304管卡（个） | CR4: CPVC管道（米） | CS4: CPVC90度弯头（个） | CT4: CPVC三通DN150*65（个） | CU4: CPVC三通DN150*50（个） | CV4: CPVC法兰（个） | CW4: CPVC盲板（个） | CX4: δ=3mm聚四氟乙烯垫片（片） | CY4: CPVC专用胶水（KG） | CZ4: 304管卡（个） | DA4: CPVC管道（米） | DB4: CPVC直接（个） | DC4: CPVC90度弯头（个） | DD4: CPVC正三通（个） | DE4: CPVC三通DN200*100（个） | DF4: CPVC专用胶水（KG） | DG4: 304管卡（个） | DH4: CPVC管道（米） | DI4: CPVC直接（个） | DJ4: CPVC90度弯头（个） | DK4: CPVC正三通（个） | DL4: CPVC三通DN250*100（个） | DM4: CPVC专用胶水（KG） | DN4: 304管卡（个）
C5: 提纯间
A6: B | C6: 酸、碱系统
B7: V1~R1 | C7: NAOH | D7: 7 | E7: 3 | F7: 4 | G7: 8 | J7: 3 | L7: 1 | M7: 1 | N7: 0.1 | O7: 8 | BY7: 1
B8: V2~R1 | C8: HCL | D8: 7 | E8: 3 | F8: 4 | G8: 8 | J8: 3 | L8: 1 | M8: 1 | N8: 0.1 | O8: 8 | BY8: 1
B9: V3~R1 | C9: HNO3 | D9: 7 | E9: 3 | F9: 4 | G9: 8 | J9: 3 | L9: 1 | M9: 1 | N9: 0.1 | O9: 8 | BY9: 1
B10: V4~R2 | C10: NH4.OH | D10: 7 | E10: 3 | F10: 4 | G10: 8 | J10: 3 | L10: 1 | M10: 1 | N10: 0.1 | O10: 8 | BY10: 1
B11: V5~R3 | C11: NAOH | D11: 7 | E11: 3 | F11: 4 | G11: 8 | J11: 3 | L11: 1 | M11: 1 | N11: 0.1 | O11: 8 | BY11: 1
B12: V6~R3 | C12: HCL | D12: 7 | E12: 3 | F12: 4 | G12: 8 | J12: 3 | L12: 1 | M12: 1 | N12: 0.1 | O12: 8 | BY12: 1
B13: V7~P7~R3 | C13: 盐酸联胺 | D13: 8 | E13: 3 | F13: 6 | G13: 12 | I13: 2 | J13: 4 | K13: 1 | L13: 1 | M13: 1 | N13: 0.1 | O13: 8 | BY13: 1
B14: V10~P9~V20 | C14: NH4.OH | D14: 10 | E14: 3 | F14: 6 | G14: 14 | I14: 2 | J14: 4 | K14: 1 | L14: 1 | M14: 1 | N14: 0.1 | O14: 8 | BY14: 1
B15: V9~P8~V19 | C15: HCL | D15: 6 | E15: 3 | F15: 6 | G15: 12 | I15: 2 | J15: 4 | K15: 1 | L15: 1 | M15: 1 | N15: 0.1 | O15: 8 | BY15: 1
B16: V8~V21、V22、V23、V24 | C16: HCL | D16: 7 | E16: 3 | F16: 2 | G16: 8 | H16: 4 | J16: 7 | N16: 0.1 | O16: 8 | BY16: 1
C17: 工艺系统
B18: R1~V30~P1~R2 | C18: — | D18: 15 | E18: 3 | F18: 8 | G18: 20 | I18: 2 | J18: 6 | K18: 1 | L18: 2 | M18: 2 | N18: 0.2 | O18: 20 | BY18: 1
B19: R2~V15 | C19: — | P19: 20 | Q19: 3 | R19: 4 | S19: 12 | U19: 2 | V19: 1 | W19: 1 | X19: 0.1 | Y19: 10 | BY19: 1
B20: V15~F7、F8、F9 | C20: — | BE20: 8 | BJ20: 5 | BN20: 2 | BO20: 6 | BQ20: 3 | BR20: 3 | BT20: 0.1 | BU20: 4
B21: F7、F8、F9~V16~P3~V19 | C21: — | D21: 16 | E21: 3 | F21: 3 | G21: 18 | H21: 2 | I21: 2 | J21: 10 | K21: 1 | L21: 3 | M21: 3 | N21: 0.2 | O21: 10
B22: V19~F3、F4 | C22: — | BF22: 3 | BO22: 3 | BQ22: 1 | BR22: 1 | BU22: 2
B23: F3、F4~V13 | C23: — | P23: 28 | R23: 6 | S23: 18 | T23: 2 | U23: 4 | V23: 2 | W23: 2 | X23: 0.2 | Y23: 10
B24: V13~V21、V22、V23、V24 | C24: — | Z24: 12 | AC24: 2 | AD24: 10 | AE24: 4 | AF24: 5 | AK24: 0.3 | AL24: 4
B25: V21、V22~V14 | C25: — | P25: 6 | Q25: 4 | S25: 10 | T25: 1 | U25: 3 | X25: 0.1 | Y25: 6 | BY25: 2
B26: V23、V24~V13 | C26: — | P26: 8 | Q26: 4 | S26: 10 | T26: 1 | U26: 3 | X26: 0.1 | Y26: 6
B27: V14~V25 | C27: — | Z27: 4 | AD27: 4 | AF27: 2 | AL27: 2
B28: V25~P4~V26 | C28: — | AT28: 40 | AU28: 10 | AV28: 30 | AX28: 3 | AZ28: 4 | BA28: 4 | BB28: 0.5 | BC28: 30
B29: V20~V17 | C29: — | Z29: 28 | AB29: 3 | AD29: 10 | AF29: 2 | AK29: 0.2 | AL29: 10 | BY29: 1
B30: V17~F5、F6 | C30: — | Z30: 4 | AE30: 1 | AF30: 4 | AK30: 0.1 | AL30: 4
B31: F5、F6~V12 | C31: — | D31: 12 | F31: 2 | G31: 8 | H31: 1 | J31: 4 | L31: 2 | M31: 2 | N31: 0.1 | O31: 8
B32: V12~P2~F10~R3 | C32: — | D32: 12 | F32: 4 | G32: 14 | I32: 4 | J32: 4 | K32: 1 | L32: 1 | M32: 1 | N32: 0.2 | O32: 12
B33: R3~V13 | C33: — | P33: 36 | Q33: 3 | R33: 10 | S33: 14 | T33: 1 | U33: 2 | X33: 0.2 | Y33: 12 | BY33: 1
B34: R3~V11 | C34: — | D34: 4 | E34: 3 | F34: 2 | G34: 6 | J34: 2 | N34: 0.1 | O34: 4 | BY34: 1
B35: V11~F1、F2 | C35: — | Z35: 4 | AE35: 1 | AF35: 4 | AK35: 0.1 | AL35: 4
B36: F1、F2~V13 | C36: — | P36: 36 | Q36: 3 | R36: 10 | S36: 14 | T36: 1 | U36: 2 | X36: 0.2 | Y36: 12
C37: 真空系统
B38: 主管道 | BD38: 20 | BH38: 4 | BI38: 8 | BK38: 1 | BL38: 1 | BM38: 7 | BO38: 3 | BT38: 0.3 | BU38: 8
B39: 支管 | D39: 60 | G39: 200 | H39: 60 | J39: 46 | N39: 1 | O39: 150 | AM39: 28 | AN39: 6 | AO39: 12 | AP39: 2 | AQ39: 5 | AR39: 0.2 | AS39: 8
C40: 纯水系统
B41: 管道 | D41: 70 | E41: 9 | F41: 20 | G41: 100 | H41: 25 | J41: 25 | N41: 1 | O41: 120 | BY41: 3
C42: 冷却水系统
B43: 主管道 | AT43: 60 | AU43: 15 | AV43: 20 | AW43: 6 | AX43: 2 | BB43: 1 | BC43: 20
B44: 支管 | Z44: 16 | AD44: 20 | AF44: 9 | AH44: 3 | AI44: 9 | AJ44: 9 | AK44: 0.1 | AL44: 16
C45: 氯气系统
B46: 主管道 | DH46: 24 | DI46: 3 | DJ46: 6 | DK46: 1 | DL46: 3 | DM46: 6 | DN46: 8
B47: 支管 | BD47: 12 | BG47: 6 | BI47: 6 | BS47: 3 | BU47: 9 | BV47: 4 | BW47: 2 | BX47: 2 | BZ47: 1 | CA47: 0.1 | CB47: 2 | CC47: 8 | CG47: 9 | CJ47: 3 | CL47: 3 | CM47: 3 | CP47: 2 | CQ47: 6 | CR47: 8 | CS47: 6 | CT47: 1 | CU47: 3 | CV47: 1 | CW47: 1 | CX47: 1 | CY47: 2 | CZ47: 4
C48: 氮氧化物系统
B49: 主管道 | DH49: 24 | DI49: 3 | DJ49: 6 | DK49: 1 | DL49: 3 | DM49: 6 | DN49: 8
B50: 支管 | AA50: 8 | AG50: 3 | CD50: 4 | CH50: 6 | CI50: 3 | CK50: 3 | CN50: 3 | CO50: 3 | CQ50: 6
C51: NH3系统
B52: 主管道 | DA52: 24 | DB52: 3 | DC52: 6 | DD52: 2 | DE52: 3 | DF52: 6 | DG52: 6 | DH52: 8 | DI52: 3 | DJ52: 6 | DK52: 1 | DL52: 3 | DM52: 6 | DN52: 8
B53: 支管 | CC53: 12 | CE53: 6 | CF53: 2 | CG53: 8 | CJ53: 3 | CL53: 3 | CM53: 3 | CP53: 2 | CQ53: 6
C54: 三废区
B55: 主管道 | AT55: 50 | AU55: 20 | AV55: 20 | AX55: 3 | AY55: 2 | AZ55: 8 | BA55: 8 | BB55: 3 | BC55: 20 | BD55: 50 | BO55: 5 | BP55: 1 | BQ55: 4 | BR55: 4 | BT55: 2
B58: 合计 | D58: =SUM(D7:D57) -> 262 | E58: =SUM(E7:E57) -> 48 | F58: =SUM(F7:F57) -> 83 | G58: =SUM(G7:G57) -> 460 | H58: =SUM(H7:H57) -> 92 | I58: =SUM(I7:I57) -> 14 | J58: =SUM(J7:J57) -> 134 | K58: =SUM(K7:K57) -> 6 | ... DN58: =SUM(DN7:DN57) -> 24

Sheet 钢结构及土建
A1: 成都光明派特贵金属有限公司钯相关设备项目工程量清单
A2: 序号 | B2: 名称 | C2: 型号、规格及技术要求 | D2: 单位 | E2: 数量 | F2: 备注
B3: 钢结构
A4: 1 | B4: 立柱及横梁 | C4: HW150*150*7*10 | D4: 米 | E4: 101 | F4: 设备平台
A5: 2 | B5: 立柱支撑板 | C5: 400*400*10 | D5: 块 | E5: 27 | F5: 设备平台
A6: 3 | B6: 立柱斜支撑 | C6: Ⅰ140*80*5.5 | D6: 米 | E6: 48 | F6: 设备平台
A7: 4 | B7: 立柱斜支撑连接板（Q235） | C7: δ=10mm | D7: 平方米 | E7: 2 | F7: 设备平台
A8: 5 | B8: C35混凝土基础及其环氧树脂防腐（三布五涂） | C8: 500mm*500mm*100mm | D8: 个 | E8: 27 | F8: 设备平台
A9: 6 | B9: PVC板 | C9: δ=10mm | D9: 平方米 | E9: 12 | F9: 2.300米设备平台底部敷设
A10: 7 | B10: 地脚螺栓 | C10: M14*150 | D10: 套 | E10: 108 | F10: 设备平台
A11: 8 | B11: 高强螺栓 | C11: M16*100，8.8级 | D11: 套 | E11: 108 | F11: 设备平台
A12: 9 | B12: 高强螺栓 | C12: M16*45，10.9级 | D12: 套 | E12: 88 | F12: 设备平台
A13: 10 | B13: 玻璃钢花纹板 | C13: δ=40mm | D13: 平方米 | E13: 35 | F13: 设备平台
A14: 11 | B14: 槽钢 | C14: 【16 | D14: 米 | E14: 18 | F14: 设备平台楼梯
A15: 12 | B15: 角钢 | C15: ∠50*50 | D15: 米 | E15: 24 | F15: 设备平台楼梯
... A24: 21 | B24: 槽钢 | C24: 14# | D24: 米 | E24: 24 | F24: 搅拌器支架
A25: 22 | B25: 钢结构除锈及防腐 | C25: 环氧富锌漆 | D25: 项 | E25: 1
B26: 土建
A27: 1 | B27: C35混凝土基础及其环氧树脂防腐（三布五涂） | C27: 1200mm*1200mm*100mm | D27: 个 | E27: 1 | F27: V25基础
A28: 2 | B28: 地沟及其环氧树脂防腐（三布五涂） | C28: 300mm*300mm | D28: 米 | E28: 18 | F28: 蒸汽管道
A29: 3 | B29: 地沟盖板 | C29: PVC板，δ=30mm | D29: 平方米 | E29: 8 | F29: 蒸汽管道

Sheet 拆除及恢复
A1: 成都光明派特贵金属有限公司钯相关设备项目工程量清单
A2: 序号 | B2: 名称 | C2: 型号、规格及技术要求 | D2: 单位 | E2: 数量 | F2: 备注
A3: 1 | B3: 混凝土拆除及清除 | C3: C25混凝土 | D3: 立方米 | E3: 1.8 | F3: 地沟
A4: 2 | B4: 页岩砖拆除及清除 | C4: C26混凝土 | D4: 立方米 | E4: 1 | F4: 原水槽
A5: 3 | B5: 环氧地坪修补 | C5: 三布五涂 | D5: 平方米 | E5: 3 | F5: 原水槽基础
A6: 4 | B6: 钢结构拆除 | C6: HW300*300*10*15 | D6: 米 | E6: 3 | F6: 原管廊
A7: 5 | B7: 角钢 | C7: ∠100*100 | D7: 米 | E7: 24 | F7: 原管廊
A8: 6 | B8: CPVC管道拆除及恢复 | C8: 各种规格 | D8: 米 | E8: 80 | F8: 原管廊
A9: 7 | B9: 灯具拆除 | C9: — | D9: 套 | E9: 2 | F9: 2.300米设备平台上部

Sheet 电气
A1: 成都光明派特贵金属有限公司钯相关设备项目工程量清单
A2: 序号 | B2: 名称 | C2: 型号、规格及技术要求 | D2: 单位 | E2: 数量 | F2: 备注1 | G2: 备注2
B3: 电气
B4: 照明
A5: 1 | B5: 灯具（含灯罩） | C5: LED2X18，600*600 | D5: 套 | E5: 4 | F5: 飞利浦 | G5: 2.300米设备平台底部安装
A6: 2 | B6: 开关箱 | C6: — | D6: 套 | E6: 1 | F6: 施耐德
B7: 设备
A8: 1 | B8: 配电箱 | C8: 101 | D8: 台 | E8: 1 | F8: 施耐德，带启停按钮 | G8: 总配电箱（102~104使用）
A9: 2 | B9: 配电箱 | C9: 102 | D9: 台 | E9: 1 | F9: 施耐德，带启停按钮 | G9: R1、R2、R3搅拌器及P1、P2、P7使用
A10: 3 | B10: 配电箱 | C10: 103 | D10: 台 | E10: 1 | F10: 施耐德，带启停按钮 | G10: V19、V20搅拌器及P3、P8、P9使用
A11: 4 | B11: 配电箱 | C11: 104 | D11: 台 | E11: 1 | F11: 施耐德，带启停按钮 | G11: V21、V22、V23、V24搅拌器及P4使用
A12: 5 | B12: 配电箱 | C12: 105 | D12: 台 | E12: 1 | F12: 施耐德，带启停按钮 | G12: 三废区P5使用
A13: 6 | B13: 配电箱 | C13: 106 | D13: 台 | E13: 1 | F13: 施耐德，带启停按钮 | G13: 三废区P6使用
A14: 7 | B14: 配电箱（自控） | C14: 107 | D14: 台 | E14: 1 | F14: PH及温度就地显示 | G14: R1、R2、R3使用
A15: 8 | B15: 配电箱（自控） | C15: 108 | D15: 台 | E15: 1 | F15: PH就地显示 | G15: V19、V20使用
A16: 9 | B16: PH计 | D16: 套 | E16: 2 | F16: 甲供
A17: 10 | B17: 温度传感器 | D17: 套 | E17: 3 | F17: 甲供
B18: 电缆及线管
A19: 1 | B19: 电缆 | C19: ZRYJV-0.6/1KV-3x25+2x16 | D19: 米 | E19: 15 | F19: 101 | G19: 101进线
A20: 2 | B20: 穿线管 | C20: PVC，DN40 | D20: 米 | E20: 15 | F20: 101 | G20: 101进线
A21: 3 | B21: 电缆头制作 | C21: ZRYJV-0.6/1KV-3x25+2x16 | D21: 个 | E21: 2 | F21: 101 | G21: 101
A22: 4 | B22: 电缆 | C22: ZRYJV-0.6/1KV-5x10 | D22: 米 | E22: 40 | F22: 102 | G22: 102进线
A23: 5 | B23: 穿线管 | C23: PVC，DN32 | D23: 米 | E23: 40 | F23: 102 | G23: 102进线
A24: 6 | B24: 电缆头制作 | C24: ZRYJV-0.6/1KV-5x10 | D24: 个 | E24: 2 | F24: 102 | G24: 102
A25: 7 | B25: 电缆 | C25: ZRYJV-0.6/1KV-5x4 | D25: 米 | E25: 60 | F25: 103 | G25: 103进线
A26: 8 | B26: 穿线管 | C26: PVC，DN25 | D26: 米 | E26: 60 | F26: 103 | G26: 103进线
A27: 9 | B27: 电缆头制作 | C27: ZRYJV-0.6/1KV-5x4 | D27: 个 | E27: 2 | F27: 103 | G27: 103
A28: 10 | B28: 电缆 | C28: ZRYJV-0.6/1KV-5x4 | D28: 米 | E28: 36 | F28: 104 | G28: 104进线
A29: 11 | B29: 穿线管 | C29: PVC，DN25 | D29: 米 | E29: 36 | F29: 104 | G29: 104进线
A30: 12 | B30: 电缆头制作 | C30: ZRYJV-0.6/1KV-5x4 | D30: 个 | E30: 2 | F30: 104 | G30: 104
A31: 13 | B31: 电缆 | C31: ZRYJV-0.6/1KV-5x4 | D31: 米 | E31: 40 | F31: 105 | G31: 105进线（三废区）
A32: 14 | B32: 穿线管 | C32: PVC，DN25 | D32: 米 | E32: 40 | F32: 105 | G32: 105进线（三废区）
A33: 15 | B33: 电缆头制作 | C33: ZRYJV-0.6/1KV-5x4 | D33: 个 | E33: 2 | F33: 105 | G33: 105（三废区）
A34: 16 | B34: 电缆 | C34: ZRYJV-0.6/1KV-5x4 | D34: 米 | E34: 40 | F34: 106 | G34: 106进线（三废区）
A35: 17 | B35: 穿线管 | C35: PVC，DN25 | D35: 米 | E35: 40 | F35: 106 | G35: 106进线（三废区）
A36: 18 | B36: 电缆头制作 | C36: ZRYJV-0.6/1KV-5x4 | D36: 个 | E36: 2 | F36: 106 | G36: 106（三废区）
A37: 19 | B37: 电缆 | C37: ZRYJV-0.6/1KV-5*4 | D37: 米 | E37: 10 | F37: R1、R2、R3搅拌器
A38: 20 | B38: 穿线管 | C38: PVC，DN25 | D38: 米 | E38: 10 | F38: R1、R2、R3搅拌器
A39: 21 | B39: 电缆 | C39: ZRYJV-0.6/1KW-4*2.5 | D39: 米 | E39: 75 | F39: P1、P2、P3、P4、P7、P8、P9、V19~V24搅拌器
A40: 22 | B40: 穿线管 | C40: PVC，DN20 | D40: 米 | E40: 75 | F40: P1、P2、P3、P4、P7、P8、P9、V19~V24搅拌器
A41: 23 | B41: 角钢 | C41: ∠50*50 | D41: 米 | E41: 18 | F41: 零星支架 | G41: 零星支架

Sheet 设备
A1: 成都光明派特贵金属有限公司钯相关设备项目工程量清单
A2: 序号 | B2: 设备位号 | C2: 名称 | D2: 型号、规格及技术要求 | E2: 单位 | F2: 数量 | G2: 备注 | H2: 备注1
A3: A | C3: 设备
A4: 1 | B4: R1 | C4: 反应釜 | D4: 罐体内径：Φ900mm；夹套直径：Φ1000mm；罐内设计温度：150℃；夹套内设计温度：200℃；罐内压力：0.4MPa;夹套内压力：0.6MPa;公称容积：500L；质量：约400Kg。 | E4: 台 | F4: 1 | G4: 甲供
C5: 配套玻璃冷凝器 | D5: — | E5: 套 | F5: 1 | G5: 甲供
C6: PH计 | D6: — | E6: 套 | F6: 1 | G6: 甲供（R1、R2、R3共用）
C7: 温度传感器 | D7: — | E7: 套 | F7: 1 | G7: 甲供
C8: 配套搅拌器 | D8: 电压：380V；功率：2.2Kw。 | E8: 台 | F8: 1 | G8: 甲供
A9: 2 | B9: R2 | C9: 反应釜 | D9: 罐体内径：Φ900mm；夹套直径：Φ1000mm；罐内设计温度：150℃；夹套内设计温度：200℃；罐内压力：0.4MPa;夹套内压力：0.6MPa;公称容积：800L；质量：约500Kg。 | E9: 台 | F9: 1 | G9: 甲供
C10: 配套玻璃冷凝器 | D10: — | E10: 套 | F10: 1 | G10: 甲供
C11: 温度传感器 | D11: — | E11: 套 | F11: 1 | G11: 甲供
C12: 配套搅拌器 | D12: 电压：380V；功率：3Kw。 | E12: 台 | F12: 1 | G12: 甲供
A13: 3 | B13: R3 | C13: 反应釜 | D13: 罐体内径：Φ1450mm；夹套直径：Φ1600mm；罐内设计温度：150℃；夹套内设计温度：200℃；罐内压力：0.4MPa;夹套内压力：0.6MPa;公称容积：1000L；质量：约700Kg。 | E13: 台 | F13: 1 | G13: 甲供
C14: 配套玻璃冷凝器 | D14: — | E14: 套 | F14: 1 | G14: 甲供
C15: 温度传感器 | D15: — | E15: 套 | F15: 1 | G15: 甲供
C16: 配套搅拌器 | D16: 电压：380V；功率：4Kw。 | E16: 台 | F16: 1 | G16: 甲供
A17: 4 | B17: V1 | C17: 高位槽 | D17: 介质：NAOH；工作压力：-0.1MPa;温度：环境温度；体积：60L。 | E17: 台 | F17: 1 | G17: 甲供（RI配用）
A18: 5 | B18: V2 | C18: 高位槽 | D18: 介质：HCL；工作压力：-0.1MPa;温度：环境温度；体积：100L。 | E18: 台 | F18: 1 | G18: 甲供（RI配用）
A19: 6 | B19: V3 | C19: 高位槽 | D19: 介质：HNO3；工作压力：-0.1MPa;温度：环境温度；体积：60L。 | E19: 台 | F19: 1 | G19: 甲供（RI配用）
A20: 7 | B20: V4 | C20: 高位槽 | D20: 介质：HN4.OH；工作压力：-0.1MPa;温度：环境温度；体积：100L。 | E20: 台 | F20: 1 | G20: 甲供（R2配用）
A21: 8 | B21: V5 | C21: 高位槽 | D21: 介质：NAOH；工作压力：-0.1MPa;温度：环境温度；体积：60L。 | E21: 台 | F21: 1 | G21: 甲供（R3配用）
A22: 9 | B22: V6 | C22: 高位槽 | D22: 介质：HCL；工作压力：-0.1MPa;温度：环境温度；体积：100L。 | E22: 台 | F22: 1 | G22: 甲供（R3配用）
A23: 10 | B23: V7 | C23: 高位槽 | D23: 介质：盐酸联胺；工作压力：-0.1MPa;温度：环境温度；体积：60L。 | E23: 台 | F23: 1 | G23: 甲供（R3配用）
A24: 11 | B24: V8 | C24: 高位槽 | D24: 介质：HCL；工作压力：-0.1MPa;温度：环境温度；体积：100L。 | E24: 台 | F24: 1 | G24: 甲供，利旧
A25: 12 | B25: V9 | C25: 高位槽 | D25: 介质：HCL；工作压力：-0.1MPa;温度：环境温度；体积：100L。 | E25: 台 | F25: 1 | G25: 甲供
A26: 13 | B26: V10 | C26: 高位槽 | D26: 介质：HN4.OH；工作压力：-0.1MPa;温度：环境温度；体积：100L。 | E26: 台 | F26: 1 | G26: 甲供
A27: 14 | B27: V11 | C27: 中转槽 | D27: 介质：—；工作压力：-0.1MPa;温度：环境温度；体积：100L。 | E27: 台 | F27: 1 | G27: 甲供
A28: 15 | B28: V12 | C28: 中转槽 | D28: 介质：—；工作压力：-0.1MPa;温度：环境温度；直径：Φ150mm。 | E28: 台 | F28: 1 | G28: 甲供
... A35: 22 | B35: V19 | C35: 生成罐 | D35: 介质：—；工作压力：常压;温度：环境温度；体积：1000L。 | E35: 台 | F35: 1 | G35: 甲供
C36: PH计 | D36: — | E36: 套 | F36: 1 | G36: 甲供（V19、V20共用）
C37: 配套搅拌器 | D37: 电压：380V；功率：1Kw。 | E37: 台 | F37: 1 | G37: 甲供
A38: 23 | B38: V20 | C38: 络合罐 | D38: 介质：—；工作压力：常压;温度：环境温度；体积：800L。 | E38: 台 | F38: 1 | G38: 甲供
C39: 配套搅拌器 | D39: 电压：380V；功率：1Kw。 | E39: 台 | F39: 1 | G39: 甲供
A40: 24 | B40: V21、V22 | C40: 废液还原罐 | D40: 介质：—；工作压力：常压;温度：环境温度；体积：1000L。 | E40: 台 | F40: 2 | G40: 甲供
C41: 配套搅拌器 | D41: 电压：380V；功率：1Kw。 | E41: 台 | F41: 2 | G41: 甲供
A42: 25 | B42: V23、V24 | C42: 废液还原储存罐 | D42: 介质：—；工作压力：常压;温度：环境温度；体积：1000L。 | E42: 台 | F42: 2 | G42: 甲供
A43: 26 | B43: V25 | C43: 废液储存罐 | D43: 介质：—；工作压力：常压;温度：环境温度；体积：1000L。 | E43: 台 | F43: 1 | G43: 甲供
A44: 27 | B44: V26 | C44: 中转罐 | D44: 介质：—；工作压力：常压;温度：环境温度；体积：1000L。 | E44: 台 | F44: 1 | G44: 甲供，三废区
A45: 28 | B45: V27 | C45: 硫酸槽 | D45: 介质：—；工作压力：常压;温度：环境温度；体积：6000L。 | E45: 台 | F45: 1 | G45: 甲供，利旧，三废区
A46: 29 | B46: V28 | C46: PE废液罐 | D46: 介质：—；工作压力：常压;温度：环境温度；体积：10m3。 | E46: 台 | F46: 1 | G46: 乙供，三废区
A47: 30 | B47: V29 | C47: 酸碱调节槽 | D47: 介质：—；工作压力：常压;温度：环境温度；体积：4m3。 | E47: 台 | F47: 1 | G47: 甲供，利旧，三废区
A48: 31 | B48: V30 | C48: 中转槽 | D48: 介质：—；工作压力：-0.1MPa;温度：环境温度；直径：Φ150mm。 | E48: 台 | F48: 1 | G48: 甲供
A49: 32 | B49: T1 | C49: NH3洗涤塔 | D49: 介质：—；工作压力：常压;温度：环境温度。 | E49: 台 | F49: 1 | G49: 甲供，利旧，三废区
A50: 33 | B50: B1 | C50: 热水器 | D50: 介质：纯水。 | E50: 台 | F50: 1 | G50: 甲供，利旧
A51: 34 | B51: F1~F6 | C51: 过滤器 | D51: 介质：—；压力：常压；温度：环境温度；直径：Φ600。 | E51: 台 | F51: 6 | G51: 甲供
A52: 35 | B52: F7~F9 | C52: 过滤器 | D52: 介质：—；压力：常压；温度：环境温度；直径：Φ460。 | E52: 台 | F52: 3 | G52: 甲供，利旧
A53: 36 | B53: F10 | C53: 线波过滤器 | D53: 介质：—；压力：常压；温度：环境温度；直径：Φ 。 | E53: 台 | F53: 1 | G53: 甲供，利旧
... A56: 39 | B56: P7~P9 | C56: 计量泵 | D56: 电压：220V；功率：1Kw。 | E56: 台 | F56: 3 | G56: 甲供
C57: 接液槽 | D57: 与2009年搬厂时的材质颜色一致。
A58: 1 | B58: V1、V2、V3 | C58: 接液槽 | D58: 材质：PP;尺寸：1600mm*550mm*200mm*10mm | E58: 件 | F58: 1 | G58: 乙供
A59: 2 | B59: V4、V8、V7 | C59: 接液槽 | D59: 材质：PP;尺寸：1600mm*550mm*200mm*10mm | E59: 件 | F59: 1 | G59: 乙供
A60: 3 | B60: V9、V10、V15 | C60: 接液槽 | D60: 材质：PP;尺寸：1600mm*550mm*200mm*10mm | E60: 件 | F60: 1 | G60: 乙供
A61: 4 | B61: V6、V5、V11、V17 | C61: 接液槽 | D61: 材质：PP;尺寸：2100mm*550mm*200mm*10mm | E61: 件 | F61: 1 | G61: 乙供
A62: 5 | B62: F1、F2 | C62: 接液槽 | D62: 材质：PP;尺寸：1500mm*800mm*200mm*10mm | E62: 件 | F62: 1 | G62: 乙供
A63: 6 | B63: F3、F4 | C63: 接液槽 | D63: 材质：PP;尺寸：1500mm*800mm*200mm*10mm | E63: 件 | F63: 1 | G63: 乙供
A64: 7 | B64: F5、F6 | C64: 接液槽 | D64: 材质：PP;尺寸：1500mm*800mm*200mm*10mm | E64: 件 | F64: 1 | G64: 乙供
A65: 8 | B65: F7、F8、F9 | C65: 接液槽 | D65: 材质：PP;尺寸：2000mm*800mm*200mm*10mm | E65: 件 | F65: 1 | G65: 乙供
A66: 9 | B66: P1、P2 | C66: 接液槽 | D66: 材质：PP;尺寸：1200mm*500mm*200mm*10mm | E66: 件 | F66: 1 | G66: 乙供
A67: 10 | B67: P7 | C67: 接液槽 | D67: 材质：PP;尺寸：600mm*500mm*200mm*10mm | E67: 件 | F67: 1 | G67: 乙供
A68: 11 | B68: P3 | C68: 接液槽 | D68: 材质：PP;尺寸：600mm*500mm*200mm*10mm | E68: 件 | F68: 1 | G68: 乙供
A69: 12 | B69: P4 | C69: 接液槽 | D69: 材质：PP;尺寸：1200mm*600mm*200mm*10mm | E69: 件 | F69: 1 | G69: 乙供
... A75: 18 | B75: V25/V20 | C75: 接液槽 | D75: 材质：PP;尺寸：1200mm*1200mm*200mm*10mm | E75: 件 | F75: 1 | G75: 乙供
A76: 19 | C76: 洗手池 | D76: 材质：PVC;尺寸：600mm*600mm*1000mm*10mm | E76: 件 | F76: 1 | G76: 乙供
